BEGIN:VCALENDAR
VERSION:2.0
PRODID:-//ASCEND - ECPv6.15.20//NONSGML v1.0//EN
CALSCALE:GREGORIAN
METHOD:PUBLISH
X-WR-CALNAME:ASCEND
X-ORIGINAL-URL:https://azautismascend.org
X-WR-CALDESC:Events for ASCEND
REFRESH-INTERVAL;VALUE=DURATION:PT1H
X-Robots-Tag:noindex
X-PUBLISHED-TTL:PT1H
BEGIN:VTIMEZONE
TZID:UTC
BEGIN:STANDARD
TZOFFSETFROM:+0000
TZOFFSETTO:+0000
TZNAME:UTC
DTSTART:20200101T000000
END:STANDARD
END:VTIMEZONE
BEGIN:VEVENT
DTSTART;VALUE=DATE:20211125
DTEND;VALUE=DATE:20211127
DTSTAMP:20260423T143528
CREATED:20211104T075516Z
LAST-MODIFIED:20211104T075516Z
UID:14460-1637798400-1637971199@azautismascend.org
SUMMARY:Thankgiving Break - No School
DESCRIPTION:
URL:https://azautismascend.org/event/thankgiving-break-no-school
CATEGORIES:School Closure
END:VEVENT
BEGIN:VEVENT
DTSTART;VALUE=DATE:20211111
DTEND;VALUE=DATE:20211112
DTSTAMP:20260423T143528
CREATED:20211104T075640Z
LAST-MODIFIED:20211104T075640Z
UID:14463-1636588800-1636675199@azautismascend.org
SUMMARY:Veteran's Day - No School
DESCRIPTION:
URL:https://azautismascend.org/event/veterans-day-no-school-2
CATEGORIES:School Closure
END:VEVENT
END:VCALENDAR