BEGIN:VCALENDAR
VERSION:2.0
PRODID:-//ASCEND - ECPv6.15.20//NONSGML v1.0//EN
CALSCALE:GREGORIAN
METHOD:PUBLISH
X-WR-CALNAME:ASCEND
X-ORIGINAL-URL:https://azautismascend.org
X-WR-CALDESC:Events for ASCEND
REFRESH-INTERVAL;VALUE=DURATION:PT1H
X-Robots-Tag:noindex
X-PUBLISHED-TTL:PT1H
BEGIN:VTIMEZONE
TZID:America/Phoenix
BEGIN:STANDARD
TZOFFSETFROM:-0700
TZOFFSETTO:-0700
TZNAME:MST
DTSTART:20180101T000000
END:STANDARD
END:VTIMEZONE
BEGIN:VTIMEZONE
TZID:UTC
BEGIN:STANDARD
TZOFFSETFROM:+0000
TZOFFSETTO:+0000
TZNAME:UTC
DTSTART:20180101T000000
END:STANDARD
END:VTIMEZONE
BEGIN:VTIMEZONE
TZID:UTC
BEGIN:STANDARD
TZOFFSETFROM:+0000
TZOFFSETTO:+0000
TZNAME:UTC
DTSTART:20180101T000000
END:STANDARD
END:VTIMEZONE
BEGIN:VEVENT
DTSTART;TZID=America/Phoenix:20250412T180000
DTEND;TZID=America/Phoenix:20250412T210000
DTSTAMP:20260423T161334
CREATED:20250311T195001Z
LAST-MODIFIED:20250311T195847Z
UID:14807-1744480800-1744491600@azautismascend.org
SUMMARY:Under The Big Top - 2025 Special Needs Prom
DESCRIPTION:Join us Under the Big Top for this years annual Special Needs Family Prom for individuals with specials needs 14 and up and a family member or caregiver. There will be food\, dancing\, and fun! \nThe prom will be held at: \nFounding Fathers Collective\n218 N. Granite St\nPrescott\, AZ 86301 United States \nGet tickets here:\nhttps://www.paypal.com/ncp/payment/E9DUMM2D45AUS
URL:https://azautismascend.org/event/under-the-big-top-2025-special-needs-prom
LOCATION:Founding Fathers Collective\, 218 N. Granite St\, Prescott\, AZ\, 86301\, United States
END:VEVENT
BEGIN:VEVENT
DTSTART;TZID=America/Phoenix:20240426T180000
DTEND;TZID=America/Phoenix:20240426T210000
DTSTAMP:20260423T161334
CREATED:20240415T222217Z
LAST-MODIFIED:20240415T222612Z
UID:14789-1714154400-1714165200@azautismascend.org
SUMMARY:May the Force Be With You... 2024 Special Needs Prom
DESCRIPTION:May the Force Be With You… 2024 Special Needs Prom\nMay the force be with you as you join us for an evening of food\, dancing and fun. We invite all families with special needs members 14 and up to participate in this night of celebration. We ask that all members be accompanied by a family member as this is a family event. \nGet tickets here: \nhttps://azautismascend.harnessgiving.org/events/1662
URL:https://azautismascend.org/event/may-the-force-be-with-you-2024-special-needs-prom
END:VEVENT
BEGIN:VEVENT
DTSTART;VALUE=DATE:20211125
DTEND;VALUE=DATE:20211127
DTSTAMP:20260423T161334
CREATED:20211104T075516Z
LAST-MODIFIED:20211104T075516Z
UID:14460-1637798400-1637971199@azautismascend.org
SUMMARY:Thankgiving Break - No School
DESCRIPTION:
URL:https://azautismascend.org/event/thankgiving-break-no-school
CATEGORIES:School Closure
END:VEVENT
BEGIN:VEVENT
DTSTART;VALUE=DATE:20211111
DTEND;VALUE=DATE:20211112
DTSTAMP:20260423T161334
CREATED:20211104T075640Z
LAST-MODIFIED:20211104T075640Z
UID:14463-1636588800-1636675199@azautismascend.org
SUMMARY:Veteran's Day - No School
DESCRIPTION:
URL:https://azautismascend.org/event/veterans-day-no-school-2
CATEGORIES:School Closure
END:VEVENT
BEGIN:VEVENT
DTSTART;VALUE=DATE:20210531
DTEND;VALUE=DATE:20210604
DTSTAMP:20260423T161334
CREATED:20200804T011122Z
LAST-MODIFIED:20200804T011122Z
UID:14346-1622419200-1622764799@azautismascend.org
SUMMARY:School Break- NO SCHOOL
DESCRIPTION:
URL:https://azautismascend.org/event/school-break-no-school
END:VEVENT
BEGIN:VEVENT
DTSTART;VALUE=DATE:20210408
DTEND;VALUE=DATE:20210409
DTSTAMP:20260423T161334
CREATED:20200804T010432Z
LAST-MODIFIED:20200804T010522Z
UID:14344-1617840000-1617926399@azautismascend.org
SUMMARY:Last Day of Q3
DESCRIPTION:
URL:https://azautismascend.org/event/last-day-of-q3
END:VEVENT
BEGIN:VEVENT
DTSTART;VALUE=DATE:20210315
DTEND;VALUE=DATE:20210319
DTSTAMP:20260423T161334
CREATED:20200804T010310Z
LAST-MODIFIED:20200804T010310Z
UID:14342-1615766400-1616111999@azautismascend.org
SUMMARY:Spring Break- NO SCHOOL
DESCRIPTION:
URL:https://azautismascend.org/event/spring-break-no-school
END:VEVENT
BEGIN:VEVENT
DTSTART;VALUE=DATE:20210215
DTEND;VALUE=DATE:20210216
DTSTAMP:20260423T161334
CREATED:20200804T005229Z
LAST-MODIFIED:20200804T005229Z
UID:14340-1613347200-1613433599@azautismascend.org
SUMMARY:Presidents Day- NO SCHOOL
DESCRIPTION:
URL:https://azautismascend.org/event/presidents-day-no-school
END:VEVENT
BEGIN:VEVENT
DTSTART;VALUE=DATE:20210121
DTEND;VALUE=DATE:20210122
DTSTAMP:20260423T161334
CREATED:20200804T005121Z
LAST-MODIFIED:20200804T005426Z
UID:14338-1611187200-1611273599@azautismascend.org
SUMMARY:Last Day of Q2
DESCRIPTION:
URL:https://azautismascend.org/event/last-day-of-q2
END:VEVENT
BEGIN:VEVENT
DTSTART;VALUE=DATE:20210118
DTEND;VALUE=DATE:20210119
DTSTAMP:20260423T161334
CREATED:20200804T005024Z
LAST-MODIFIED:20200804T005326Z
UID:14336-1610928000-1611014399@azautismascend.org
SUMMARY:Martin Luther King Day- NO SCHOOL
DESCRIPTION:
URL:https://azautismascend.org/event/martin-luther-king-day-no-school
END:VEVENT
BEGIN:VEVENT
DTSTART;VALUE=DATE:20201221
DTEND;VALUE=DATE:20210101
DTSTAMP:20260423T161334
CREATED:20200804T004718Z
LAST-MODIFIED:20200804T004718Z
UID:14334-1608508800-1609459199@azautismascend.org
SUMMARY:Winter Break- NO SCHOOL
DESCRIPTION:
URL:https://azautismascend.org/event/winter-break-no-school
END:VEVENT
BEGIN:VEVENT
DTSTART;VALUE=DATE:20201125
DTEND;VALUE=DATE:20201127
DTSTAMP:20260423T161334
CREATED:20200804T004600Z
LAST-MODIFIED:20200804T004600Z
UID:14332-1606262400-1606435199@azautismascend.org
SUMMARY:Thanksgiving Break- NO SCHOOL
DESCRIPTION:
URL:https://azautismascend.org/event/thanksgiving-break-no-school
END:VEVENT
BEGIN:VEVENT
DTSTART;VALUE=DATE:20201111
DTEND;VALUE=DATE:20201112
DTSTAMP:20260423T161334
CREATED:20200804T004431Z
LAST-MODIFIED:20200804T004431Z
UID:14330-1605052800-1605139199@azautismascend.org
SUMMARY:Veterans Day- NO SCHOOL
DESCRIPTION:
URL:https://azautismascend.org/event/veterans-day-no-school
END:VEVENT
BEGIN:VEVENT
DTSTART;VALUE=DATE:20201022
DTEND;VALUE=DATE:20201023
DTSTAMP:20260423T161334
CREATED:20200804T004330Z
LAST-MODIFIED:20200804T004330Z
UID:14328-1603324800-1603411199@azautismascend.org
SUMMARY:Last Day of Q1
DESCRIPTION:
URL:https://azautismascend.org/event/last-day-of-q1
END:VEVENT
BEGIN:VEVENT
DTSTART;VALUE=DATE:20201012
DTEND;VALUE=DATE:20201016
DTSTAMP:20260423T161334
CREATED:20200804T004212Z
LAST-MODIFIED:20200804T004212Z
UID:14326-1602460800-1602806399@azautismascend.org
SUMMARY:Fall Break- NO SCHOOL
DESCRIPTION:
URL:https://azautismascend.org/event/fall-break-no-school
END:VEVENT
BEGIN:VEVENT
DTSTART;VALUE=DATE:20200907
DTEND;VALUE=DATE:20200908
DTSTAMP:20260423T161334
CREATED:20200804T004048Z
LAST-MODIFIED:20200804T004048Z
UID:14324-1599436800-1599523199@azautismascend.org
SUMMARY:Labor Day- NO SCHOOL
DESCRIPTION:
URL:https://azautismascend.org/event/labor-day-no-school
END:VEVENT
BEGIN:VEVENT
DTSTART;TZID=UTC:20200817T090000
DTEND;TZID=UTC:20200817T150000
DTSTAMP:20260423T161334
CREATED:20200801T105124Z
LAST-MODIFIED:20200801T105124Z
UID:14320-1597654800-1597676400@azautismascend.org
SUMMARY:First Day of School 2020
DESCRIPTION:
URL:https://azautismascend.org/event/first-day-of-school-2020
END:VEVENT
BEGIN:VEVENT
DTSTART;TZID=UTC:20190805T090000
DTEND;TZID=UTC:20190805T150000
DTSTAMP:20260423T161334
CREATED:20190625T010903Z
LAST-MODIFIED:20190625T010903Z
UID:14146-1564995600-1565017200@azautismascend.org
SUMMARY:First Day of School
DESCRIPTION:
URL:https://azautismascend.org/event/first-day-of-school
LOCATION:Ascend School\, 1027 Spire Drive\, Prescott\, AZ\, 86305\, United States
END:VEVENT
BEGIN:VEVENT
DTSTART;TZID=America/Phoenix:20190621T130000
DTEND;TZID=America/Phoenix:20190621T143000
DTSTAMP:20260423T161334
CREATED:20190619T044917Z
LAST-MODIFIED:20190625T010635Z
UID:14135-1561122000-1561127400@azautismascend.org
SUMMARY:End of School Pool Party
DESCRIPTION:
URL:https://azautismascend.org/event/end-of-school-pool-party
END:VEVENT
BEGIN:VEVENT
DTSTART;TZID=UTC:20190206T090000
DTEND;TZID=UTC:20190206T110000
DTSTAMP:20260423T161334
CREATED:20190206T064416Z
LAST-MODIFIED:20190206T064416Z
UID:14048-1549443600-1549450800@azautismascend.org
SUMMARY:Diary of a Worm\, Spider\, Fly
DESCRIPTION:
URL:https://azautismascend.org/event/diary-of-a-worm-spider-fly
LOCATION:AZ\, United States
END:VEVENT
END:VCALENDAR